BEGIN:VCALENDAR
VERSION:2.0
PRODID:-//apcc237.org - ECPv6.15.20//NONSGML v1.0//EN
CALSCALE:GREGORIAN
METHOD:PUBLISH
X-ORIGINAL-URL:https://apcc237.org
X-WR-CALDESC:Évènements pour apcc237.org
REFRESH-INTERVAL;VALUE=DURATION:PT1H
X-Robots-Tag:noindex
X-PUBLISHED-TTL:PT1H
BEGIN:VTIMEZONE
TZID:UTC
BEGIN:STANDARD
TZOFFSETFROM:+0000
TZOFFSETTO:+0000
TZNAME:UTC
DTSTART:20250101T000000
END:STANDARD
END:VTIMEZONE
BEGIN:VEVENT
DTSTART;TZID=UTC:20260123T153000
DTEND;TZID=UTC:20260421T153000
DTSTAMP:20260422T231043
CREATED:20260102T084552Z
LAST-MODIFIED:20260102T123648Z
UID:2052-1769182200-1776785400@apcc237.org
SUMMARY:UK Will Have School Lesson
DESCRIPTION:Why do you think that she is a witch? He hasn’t got stuff all over him. Well\, I didn’t vote for you. A newt? Look\, my liege! I don’t want to talk to you no more\, you empty-headed animal food trough water! I fart in your general direction! Your mother was a hamster and your father smelt of elderberries! Now leave before I am forced to taunt you a second time!
URL:https://apcc237.org/event/uk-will-have-school-lesson/
LOCATION:Krispy Kreme\, St. Louis\, 63129
CATEGORIES:Education,Formation Emploi
ATTACH;FMTTYPE=image/jpeg:https://apcc237.org/wp-content/uploads/2025/02/WhatsApp-Image-2025-07-05-a-16.45.42_f72b73c3.jpg
END:VEVENT
BEGIN:VEVENT
DTSTART;TZID=UTC:20260125T000000
DTEND;TZID=UTC:20260421T235959
DTSTAMP:20260422T231043
CREATED:20260102T125641Z
LAST-MODIFIED:20260102T125642Z
UID:2057-1769299200-1776815999@apcc237.org
SUMMARY:Provide Pure Water And Fresh Food
DESCRIPTION:Oh God\, my uncle. How am I ever gonna explain this? The plans you refer to will soon be back in our hands. I suggest you try it again\, Luke. This time\, let go your conscious self and act on instinct. I want to come with you to Alderaan. There’s nothing for me here now. I want to learn the ways of the Force and be a Jedi\, like my father before me. As you wish. I don’t know what you’re talking about. I am a member of the Imperial Senate on a diplomatic mission to Alderaan–
URL:https://apcc237.org/event/provide-pure-water-and-fresh-food-fo/
LOCATION:The Corn Palace\, Mitchell\, 57301\, United States
CATEGORIES:Education,Travaux Générales
ATTACH;FMTTYPE=image/jpeg:https://apcc237.org/wp-content/uploads/2025/02/eau-potable.jpg
ORGANIZER;CN="Sammy Sosa":MAILTO:baseball@hotmail.com
END:VEVENT
BEGIN:VEVENT
DTSTART;TZID=UTC:20260125T000000
DTEND;TZID=UTC:20260321T235900
DTSTAMP:20260422T231043
CREATED:20260102T083910Z
LAST-MODIFIED:20260102T124516Z
UID:2053-1769299200-1774137540@apcc237.org
SUMMARY:Use Hashtags To Support Online
DESCRIPTION:Look\, my liege! Shut up! Will you shut up?! What a strange person. But you are dressed as one…I blow my nose at you\, so-called Ah-thoor Keeng\, you and all your silly English K-n-n-n-n-n-n-n-niggits! The Lady of the Lake\, her arm clad in the purest shimmering samite\, held aloft Excalibur from the bosom of the water\, signifying by divine providence that I\, Arthur\, was to carry Excalibur. That is why I am your king.
URL:https://apcc237.org/event/use-hashtags-to-support-online-2/
LOCATION:The Corn Palace\, Mitchell\, 57301\, United States
CATEGORIES:Travaux Générales
ATTACH;FMTTYPE=image/jpeg:https://apcc237.org/wp-content/uploads/2025/02/WhatsApp-Image-2025-07-05-a-16.45.38_ee2d07c0.jpg
ORGANIZER;CN="Mr. Ed":MAILTO:neigh@gmail.com
END:VEVENT
BEGIN:VEVENT
DTSTART;TZID=UTC:20260215T100000
DTEND;TZID=UTC:20260621T180000
DTSTAMP:20260422T231043
CREATED:20260102T130406Z
LAST-MODIFIED:20260102T130408Z
UID:2055-1771149600-1782064800@apcc237.org
SUMMARY:Help Charities Without Leaving Home
DESCRIPTION:I’ve done everything the Bible says — even the stuff that contradicts the other stuff! Our differences are only skin deep\, but our sames go down to the bone. And now\, in the spirit of the season: start shopping. And for every dollar of Krusty merchandise you buy\, I will be nice to a sick kid. For legal purposes\, sick kids may include hookers with a cold. And here I am using my own lungs like a sucker. What good is money if it can’t inspire terror in your fellow man? Homer no function beer well without.
URL:https://apcc237.org/event/help-charities-without-leaving-home/
LOCATION:Winchester Mystery House\, San Jose\, 95128\, United States
CATEGORIES:Aide et Soins,Séminaires Jeunes
ATTACH;FMTTYPE=image/jpeg:https://apcc237.org/wp-content/uploads/2025/02/WhatsApp-Image-2025-07-05-a-16.37.42_20da6d30.jpg
ORGANIZER;CN="Barney Stinson":MAILTO:barney@legendary.com
END:VEVENT
END:VCALENDAR